BEGIN:VCALENDAR
VERSION:2.0
PRODID:-//HOOU - ECPv6.15.16//NONSGML v1.0//EN
CALSCALE:GREGORIAN
METHOD:PUBLISH
X-WR-CALNAME:HOOU
X-ORIGINAL-URL:https://portal.hoou.de
X-WR-CALDESC:Veranstaltungen für HOOU
REFRESH-INTERVAL;VALUE=DURATION:PT1H
X-Robots-Tag:noindex
X-PUBLISHED-TTL:PT1H
BEGIN:VTIMEZONE
TZID:Europe/Berlin
BEGIN:DAYLIGHT
TZOFFSETFROM:+0100
TZOFFSETTO:+0200
TZNAME:CEST
DTSTART:20250330T010000
END:DAYLIGHT
BEGIN:STANDARD
TZOFFSETFROM:+0200
TZOFFSETTO:+0100
TZNAME:CET
DTSTART:20251026T010000
END:STANDARD
BEGIN:DAYLIGHT
TZOFFSETFROM:+0100
TZOFFSETTO:+0200
TZNAME:CEST
DTSTART:20260329T010000
END:DAYLIGHT
BEGIN:STANDARD
TZOFFSETFROM:+0200
TZOFFSETTO:+0100
TZNAME:CET
DTSTART:20261025T010000
END:STANDARD
BEGIN:DAYLIGHT
TZOFFSETFROM:+0100
TZOFFSETTO:+0200
TZNAME:CEST
DTSTART:20270328T010000
END:DAYLIGHT
BEGIN:STANDARD
TZOFFSETFROM:+0200
TZOFFSETTO:+0100
TZNAME:CET
DTSTART:20271031T010000
END:STANDARD
END:VTIMEZONE
BEGIN:VEVENT
DTSTART;TZID=Europe/Berlin:20260421T100000
DTEND;TZID=Europe/Berlin:20260421T123000
DTSTAMP:20260421T111857
CREATED:20260223T100528Z
LAST-MODIFIED:20260223T101015Z
UID:15735-1776765600-1776774600@portal.hoou.de
SUMMARY:KI in der Hochschullehre – Innovationen rechtssicher gestalten
DESCRIPTION:Die Online-Veranstaltung „KI in der Hochschullehre – Innovationen rechtssicher gestalten“ findet am Dienstag\, 21. April von 10:00–12:30 Uhr statt. Die Teilnahme ist kostenfrei. Eine Anmeldung ist aus organisatorischen Gründen erforderlich. \n\n\n\n\n\n\n\n\n\nVeranstaltungsbeschreibung\n\nKünstliche Intelligenz verändert zunehmend die Kernbereiche von Hochschulen. Dabei ergeben sich auch neue rechtliche Fragen. Die Online-Veranstaltung beleuchtet aktuelle Entwicklungen rund um Text- und Data-Mining\, den Einsatz von KI in Prüfungen sowie datenschutzrechtliche Anforderungen. \nSo stehen die Auseinandersetzung GEMA vs. OpenAI\, der Weg von KI-Empfehlungen zu rechtsverbindlichen Regelungen an Hochschulen und ein Rechtsprechungsupdate zum KI-Einsatz in Prüfungen sowie KI und das Datenschutzrecht im Fokus der Fachveranstaltung. \n\n\n\n\n\n\n\nProgrammablauf\n\n10:00–10:10 Begrüßung durch die Organisatoren \n10:10–10:40 Keynote von Prof. Dr. Achim Förster (Technische Hochschule Würzburg-Schweinfurt) zum Thema “GEMA vs. Open AI. Wie geht es weiter beim Text und Data Mining?” \n10:40–11:05 Kurzvortrag der Rechtsinformationsstelle bwDigiRecht: “Hochschulen im Spannungsfeld KI – Von Empfehlungen zu rechtsverbindlichen Nutzungsregelungen” \n11:05–11:30 Kurzvortrag der Rechtsinformationsstellen von MMKH und HOOU@HAW Hamburg zum Thema “KI-Einsatz in Prüfungen: Rechtsprechungsupdate inkl. Handlungsempfehlungen” \n11:30–11:55 Kurzvortrag der Rechtsinformationsstelle von ORCA.nrw: “KI und Datenschutzrecht” \n11:55–12:25 Offene Fragerunde \n12:25–12:30 Verabschiedung durch die Veranstalter \n\n\n\n\n\n\n\nZielgruppen\n\nDie Veranstaltung richtet sich an interessierte Justiziariate\, Prüfungsämter\, Servicestellen für digitale Lehre sowie an Lehrende\, die schon über erste KI-Erfahrungen verfügen und den KI-Einsatz an Hochschulen aktiv und rechtssicher gestalten möchten. Seien Sie dabei und diskutieren Sie mit! \n  \n\n\n\n\n\nVeranstalter\n\nDiese Online-Veranstaltung wird vom Hub Recht des Netzwerks Landeseinrichtungen für digitale Hochschullehre (NeL) angeboten und durch die NeL-Partnereinrichtungen MMKH und HND-BW organisiert. \nDas NeL ist der Zusammenschluss von 17 Einrichtungen aus 13 Bundesländern\, die sich länderübergreifend vernetzen und in ihren Ländern Unterstützungsangebote für die digitale und KI-bezogene Transformation der Hochschullehre anbieten. Dazu zählen u.a. rechtliche Unterstützungsangebote\, z.B. in Form von Qualifizierungen\, Fachveranstaltungen\, Handreichungen/Gutachten\, Mustervorlagen usw.\, die im Rahmen des NeL-Hub Recht länderübergreifend zugänglich gemacht und gemeinsam entwickelt werden.
URL:https://portal.hoou.de/event/15735/
LOCATION:Online
ATTACH;FMTTYPE=image/jpeg:https://portal.hoou.de/wp-content/uploads/withoutinfo_event_nel_04-20263.jpg
ORGANIZER;CN="Multimedia Kontor Hamburg":MAILTO:k.schroeder@mmkh.de
END:VEVENT
END:VCALENDAR